BEGIN:VCALENDAR
PRODID:https://www.moevenpick-wein.com
VERSION:2.0
CALSCALE:GREGORIAN
METHOD:REQUEST
BEGIN:VEVENT
UID:df00ded209023455ac85a0901168e49d0717c96a1672a7269a
LOCATION:Mövenpick Wein Basel
DTSTAMP:20260419T160511Z
DTSTART:20260815T090000Z
DTEND:20260815T120000Z
ORGANIZER;CN=basel@moevenpick-wein.ch:basel@moevenpick-wein.ch\
SUMMARY:«Rendez-vous pétillant dans la cave»
DESCRIPTIONL11.00 bis 14.00 Uhr
END:VEVENT
END:VCALENDAR